BEGIN:VCALENDAR
VERSION:2.0
PRODID:-//Het Leerhuis - De Open Monden - ECPv6.6.0.2//NONSGML v1.0//EN
CALSCALE:GREGORIAN
METHOD:PUBLISH
X-ORIGINAL-URL:https://www.leerhuis-openmonden.nl
X-WR-CALDESC:Evenementen voor Het Leerhuis - De Open Monden
REFRESH-INTERVAL;VALUE=DURATION:PT1H
X-Robots-Tag:noindex
X-PUBLISHED-TTL:PT1H
BEGIN:VTIMEZONE
TZID:Europe/Amsterdam
BEGIN:DAYLIGHT
TZOFFSETFROM:+0100
TZOFFSETTO:+0200
TZNAME:CEST
DTSTART:20250330T010000
END:DAYLIGHT
BEGIN:STANDARD
TZOFFSETFROM:+0200
TZOFFSETTO:+0100
TZNAME:CET
DTSTART:20251026T010000
END:STANDARD
END:VTIMEZONE
BEGIN:VEVENT
DTSTART;TZID=Europe/Amsterdam:20250326T193000
DTEND;TZID=Europe/Amsterdam:20250326T213000
DTSTAMP:20260423T055222
CREATED:20240818T080000Z
LAST-MODIFIED:20240803T075239Z
UID:10000051-1743017400-1743024600@www.leerhuis-openmonden.nl
SUMMARY:Bijbelstudieserie – Jona
DESCRIPTION:woensdag 26 maart\, 9 en 16 april 2025 | 19:30 – 21:30 \n\n\n\nJona\, het vijfde boek van de twaalf kleine profeten. De meeste mensen kennen het boek\, en dan vooral het gedeelte met de vis. Maar laat me je alvast vertellen ‘het gaat niet om de vis’.  In drie avonden zullen we je meenemen in het verhaal van een koppige Jona die door God geroepen wordt om Ninevé een spiegel voor te houden en oproept tot bekering. Die bekering is niet zomaar een verhaal\, het is het grootste massale bekeringsverhaal in de Bijbel. Zelfs de dieren hebben berouw.  \n\n\n\nOp de eerste avond zal je een algemene inleiding krijgen op dit profetische boek. Voor wie is dit boek geschreven\, hoe lazen deze lezers dit boek? In de tweede avond zullen we Jona’s angst en woede zien\, maar ook de genade van God en wat dit allemaal voor ons mag betekenen. In de derde avond zullen we kijken naar de vraag: ‘waarom haalt Jezus Jona aan?’  Wat zegt het verhaal van Jona ons over Jezus? \n\n\n\nKom met ons vissen in het verhaal van Jona\, waar je wordt meegezogen in wijsheid\, troost\, bemoediging en een oproep tot bekering. Kom samen met ons ontdekken wat het goede nieuws is van Jona \n\n\n\n	\n	\n	Aanwezig: 4 (minimaal 10 benodigd)\n	\n    \n\n	    \n    \n        Aanmeldingen zijn gesloten voor deze cursus
URL:https://www.leerhuis-openmonden.nl/activiteit/bijbelstudieserie-jona/2025-03-26/
LOCATION:Baptistengemeente Tweede Exloërmond\, Zuiderdiep 85\, Tweede Exloërmond\, 9571 BD\, Nederland
CATEGORIES:Bijbelstudie
END:VEVENT
BEGIN:VEVENT
DTSTART;TZID=Europe/Amsterdam:20250409T193000
DTEND;TZID=Europe/Amsterdam:20250409T213000
DTSTAMP:20260423T055222
CREATED:20240818T080000Z
LAST-MODIFIED:20240803T075239Z
UID:10000052-1744227000-1744234200@www.leerhuis-openmonden.nl
SUMMARY:Bijbelstudieserie – Jona
DESCRIPTION:woensdag 26 maart\, 9 en 16 april 2025 | 19:30 – 21:30 \n\n\n\nJona\, het vijfde boek van de twaalf kleine profeten. De meeste mensen kennen het boek\, en dan vooral het gedeelte met de vis. Maar laat me je alvast vertellen ‘het gaat niet om de vis’.  In drie avonden zullen we je meenemen in het verhaal van een koppige Jona die door God geroepen wordt om Ninevé een spiegel voor te houden en oproept tot bekering. Die bekering is niet zomaar een verhaal\, het is het grootste massale bekeringsverhaal in de Bijbel. Zelfs de dieren hebben berouw.  \n\n\n\nOp de eerste avond zal je een algemene inleiding krijgen op dit profetische boek. Voor wie is dit boek geschreven\, hoe lazen deze lezers dit boek? In de tweede avond zullen we Jona’s angst en woede zien\, maar ook de genade van God en wat dit allemaal voor ons mag betekenen. In de derde avond zullen we kijken naar de vraag: ‘waarom haalt Jezus Jona aan?’  Wat zegt het verhaal van Jona ons over Jezus? \n\n\n\nKom met ons vissen in het verhaal van Jona\, waar je wordt meegezogen in wijsheid\, troost\, bemoediging en een oproep tot bekering. Kom samen met ons ontdekken wat het goede nieuws is van Jona \n\n\n\n	\n	\n	Aanwezig: 4 (minimaal 10 benodigd)\n	\n    \n\n	    \n    \n        Aanmeldingen zijn gesloten voor deze cursus
URL:https://www.leerhuis-openmonden.nl/activiteit/bijbelstudieserie-jona/2025-04-09/
LOCATION:Baptistengemeente Tweede Exloërmond\, Zuiderdiep 85\, Tweede Exloërmond\, 9571 BD\, Nederland
CATEGORIES:Bijbelstudie
END:VEVENT
BEGIN:VEVENT
DTSTART;TZID=Europe/Amsterdam:20250416T193000
DTEND;TZID=Europe/Amsterdam:20250416T213000
DTSTAMP:20260423T055222
CREATED:20240818T080000Z
LAST-MODIFIED:20240803T075239Z
UID:10000053-1744831800-1744839000@www.leerhuis-openmonden.nl
SUMMARY:Bijbelstudieserie – Jona
DESCRIPTION:woensdag 26 maart\, 9 en 16 april 2025 | 19:30 – 21:30 \n\n\n\nJona\, het vijfde boek van de twaalf kleine profeten. De meeste mensen kennen het boek\, en dan vooral het gedeelte met de vis. Maar laat me je alvast vertellen ‘het gaat niet om de vis’.  In drie avonden zullen we je meenemen in het verhaal van een koppige Jona die door God geroepen wordt om Ninevé een spiegel voor te houden en oproept tot bekering. Die bekering is niet zomaar een verhaal\, het is het grootste massale bekeringsverhaal in de Bijbel. Zelfs de dieren hebben berouw.  \n\n\n\nOp de eerste avond zal je een algemene inleiding krijgen op dit profetische boek. Voor wie is dit boek geschreven\, hoe lazen deze lezers dit boek? In de tweede avond zullen we Jona’s angst en woede zien\, maar ook de genade van God en wat dit allemaal voor ons mag betekenen. In de derde avond zullen we kijken naar de vraag: ‘waarom haalt Jezus Jona aan?’  Wat zegt het verhaal van Jona ons over Jezus? \n\n\n\nKom met ons vissen in het verhaal van Jona\, waar je wordt meegezogen in wijsheid\, troost\, bemoediging en een oproep tot bekering. Kom samen met ons ontdekken wat het goede nieuws is van Jona \n\n\n\n	\n	\n	Aanwezig: 4 (minimaal 10 benodigd)\n	\n    \n\n	    \n    \n        Aanmeldingen zijn gesloten voor deze cursus
URL:https://www.leerhuis-openmonden.nl/activiteit/bijbelstudieserie-jona/2025-04-16/
LOCATION:Baptistengemeente Tweede Exloërmond\, Zuiderdiep 85\, Tweede Exloërmond\, 9571 BD\, Nederland
CATEGORIES:Bijbelstudie
END:VEVENT
END:VCALENDAR