BEGIN:VCALENDAR
VERSION:2.0
PRODID:-//Het Leerhuis - De Open Monden - ECPv6.6.0.2//NONSGML v1.0//EN
CALSCALE:GREGORIAN
METHOD:PUBLISH
X-ORIGINAL-URL:https://www.leerhuis-openmonden.nl
X-WR-CALDESC:Evenementen voor Het Leerhuis - De Open Monden
REFRESH-INTERVAL;VALUE=DURATION:PT1H
X-Robots-Tag:noindex
X-PUBLISHED-TTL:PT1H
BEGIN:VTIMEZONE
TZID:Europe/Amsterdam
BEGIN:DAYLIGHT
TZOFFSETFROM:+0100
TZOFFSETTO:+0200
TZNAME:CEST
DTSTART:20240331T010000
END:DAYLIGHT
BEGIN:STANDARD
TZOFFSETFROM:+0200
TZOFFSETTO:+0100
TZNAME:CET
DTSTART:20241027T010000
END:STANDARD
END:VTIMEZONE
BEGIN:VEVENT
DTSTART;TZID=Europe/Amsterdam:20241123T093000
DTEND;TZID=Europe/Amsterdam:20241123T160000
DTSTAMP:20260422T201731
CREATED:20240812T080000Z
LAST-MODIFIED:20241112T134943Z
UID:10000039-1732354200-1732377600@www.leerhuis-openmonden.nl
SUMMARY:Het Oude Testament in 1 dag - Gaat niet door
DESCRIPTION:Zaterdag 23 november | 09:30 – 16:00 \n\n\n\nDe Bijbel is een dik boek. Soms zie je door de bomen het bos niet meer. Wat is nu precies de rode draad? \n\n\n\nEigenlijk vertelt de Bijbel één groot verhaal. Op deze dag krijg je meer zicht op hoe het Oude Testament past in dat grote verhaal. En wat het belang daarvan is. \n\n\n\nOp deze interactieve cursusdag zoomen we samen in op een aantal belangrijke gedeeltes in dat grote verhaal. O.a. Genesis 2-3\, Exodus 19:1-8\, 2 Samuël 7:1-16\, Hosea 11\, Jeremia 31:31-34 en Ezechiël 36:16-32 komen langs. Over deze gedeeltes gaan we samen in gesprek. Dat doen we aan de hand van vragen bij deze gedeeltes. We zoomen ook uit\, waarbij het grote verhaal van het Oude Testament boeiend door de workshopleider Bram van Putten wordt verteld. \n\n\n\n	\n	\n	Aanwezig: 4 (minimaal 10 benodigd)\n	\n    \n\n	    \n    \n        Aanmeldingen zijn gesloten voor deze cursus
URL:https://www.leerhuis-openmonden.nl/activiteit/het-oude-testament-in-1-dag/
CATEGORIES:Bijbelstudie,Toerusting
END:VEVENT
END:VCALENDAR